BEGIN:VCALENDAR
VERSION:2.0
PRODID:-//Aldridge Social Club - ECPv6.15.11//NONSGML v1.0//EN
CALSCALE:GREGORIAN
METHOD:PUBLISH
X-WR-CALNAME:Aldridge Social Club
X-ORIGINAL-URL:https://aldridgesocial.club
X-WR-CALDESC:Events for Aldridge Social Club
REFRESH-INTERVAL;VALUE=DURATION:PT1H
X-Robots-Tag:noindex
X-PUBLISHED-TTL:PT1H
BEGIN:VTIMEZONE
TZID:Europe/London
BEGIN:DAYLIGHT
TZOFFSETFROM:+0000
TZOFFSETTO:+0100
TZNAME:BST
DTSTART:20250330T010000
END:DAYLIGHT
BEGIN:STANDARD
TZOFFSETFROM:+0100
TZOFFSETTO:+0000
TZNAME:GMT
DTSTART:20251026T010000
END:STANDARD
BEGIN:DAYLIGHT
TZOFFSETFROM:+0000
TZOFFSETTO:+0100
TZNAME:BST
DTSTART:20260329T010000
END:DAYLIGHT
BEGIN:STANDARD
TZOFFSETFROM:+0100
TZOFFSETTO:+0000
TZNAME:GMT
DTSTART:20261025T010000
END:STANDARD
BEGIN:DAYLIGHT
TZOFFSETFROM:+0000
TZOFFSETTO:+0100
TZNAME:BST
DTSTART:20270328T010000
END:DAYLIGHT
BEGIN:STANDARD
TZOFFSETFROM:+0100
TZOFFSETTO:+0000
TZNAME:GMT
DTSTART:20271031T010000
END:STANDARD
END:VTIMEZONE
BEGIN:VEVENT
DTSTART;TZID=Europe/London:20260423T193000
DTEND;TZID=Europe/London:20260423T233000
DTSTAMP:20260422T125719
CREATED:20260419T105157Z
LAST-MODIFIED:20260419T105157Z
UID:3919-1776972600-1776987000@aldridgesocial.club
SUMMARY:St George's Music and Quiz
DESCRIPTION:St Georges Music and Quiz – Free Entry – Doors open at 7:30pm
URL:https://aldridgesocial.club/event/st-georges-music-and-quiz/
LOCATION:Aldridge Social Club\, High Street\, Aldridge\, Walsall\, West Midlands\, WS9 8LZ\, United Kingdom
ATTACH;FMTTYPE=image/jpeg:https://aldridgesocial.club/wp-content/uploads/2026/04/st-George.jpg
ORGANIZER;CN="Aldridge Social":MAILTO:info.aldridgesocialclub@gmail.com
END:VEVENT
BEGIN:VEVENT
DTSTART;TZID=Europe/London:20260508T190000
DTEND;TZID=Europe/London:20260508T233000
DTSTAMP:20260422T125719
CREATED:20260419T104454Z
LAST-MODIFIED:20260419T104454Z
UID:3914-1778266800-1778283000@aldridgesocial.club
SUMMARY:Elvish with Owen Smith
DESCRIPTION:Friday the 8th May – Free entry into the one and only Owen Smith as ELV-ISH. \nDoors open at 7pm.
URL:https://aldridgesocial.club/event/elvish-with-owen-smith/
LOCATION:Aldridge Social Club\, High Street\, Aldridge\, Walsall\, West Midlands\, WS9 8LZ\, United Kingdom
ATTACH;FMTTYPE=image/jpeg:https://aldridgesocial.club/wp-content/uploads/2026/04/Elv.jpg
ORGANIZER;CN="Aldridge Social":MAILTO:info.aldridgesocialclub@gmail.com
END:VEVENT
BEGIN:VEVENT
DTSTART;TZID=Europe/London:20260517T160000
DTEND;TZID=Europe/London:20260517T180000
DTSTAMP:20260422T125719
CREATED:20260419T110023Z
LAST-MODIFIED:20260419T110023Z
UID:3926-1779033600-1779040800@aldridgesocial.club
SUMMARY:K Pop
DESCRIPTION:4pm until 6pm\, Doors open at 3:45 \nBar for the adults
URL:https://aldridgesocial.club/event/k-pop/
LOCATION:Aldridge Social Club\, High Street\, Aldridge\, Walsall\, West Midlands\, WS9 8LZ\, United Kingdom
ATTACH;FMTTYPE=image/jpeg:https://aldridgesocial.club/wp-content/uploads/2026/04/kpop.jpg
ORGANIZER;CN="Aldridge Social":MAILTO:info.aldridgesocialclub@gmail.com
END:VEVENT
BEGIN:VEVENT
DTSTART;TZID=Europe/London:20260523T190000
DTEND;TZID=Europe/London:20260523T233000
DTSTAMP:20260422T125719
CREATED:20251117T210402Z
LAST-MODIFIED:20260319T124304Z
UID:3839-1779562800-1779579000@aldridgesocial.club
SUMMARY:Comedy Night With Wayne Roberts
DESCRIPTION:Saturday 23rd May we have an all new comedy night with Wayne Robert\, coming to you with adult content \n  \n📍 The ASC Bar @aldridgesocial\n🗓️ Saturday 6th June\n🕗 Doors open at 7 PM\n✨ Join us for a night of music and laughter\n🍾 Bar open all night\n🎟️ Tickets: £5\nDon’t forget – You don’t have to be a member to join in the fun!
URL:https://aldridgesocial.club/event/comedy-night/
LOCATION:Aldridge Social Club\, High Street\, Aldridge\, Walsall\, West Midlands\, WS9 8LZ\, United Kingdom
ATTACH;FMTTYPE=image/jpeg:https://aldridgesocial.club/wp-content/uploads/2025/11/Comedy.jpg
ORGANIZER;CN="Aldridge Social":MAILTO:info.aldridgesocialclub@gmail.com
END:VEVENT
BEGIN:VEVENT
DTSTART;TZID=Europe/London:20260717T190000
DTEND;TZID=Europe/London:20260717T233000
DTSTAMP:20260422T125719
CREATED:20260419T105511Z
LAST-MODIFIED:20260419T105511Z
UID:3922-1784314800-1784331000@aldridgesocial.club
SUMMARY:Drag Bingo
DESCRIPTION:Fun and games with Drag Bingo
URL:https://aldridgesocial.club/event/drag-bingo/
LOCATION:Aldridge Social Club\, High Street\, Aldridge\, Walsall\, West Midlands\, WS9 8LZ\, United Kingdom
ATTACH;FMTTYPE=image/jpeg:https://aldridgesocial.club/wp-content/uploads/2026/04/drag-bingo.jpg
ORGANIZER;CN="Aldridge Social":MAILTO:info.aldridgesocialclub@gmail.com
END:VEVENT
BEGIN:VEVENT
DTSTART;TZID=Europe/London:20260926T190000
DTEND;TZID=Europe/London:20260926T233000
DTSTAMP:20260422T125719
CREATED:20251117T210616Z
LAST-MODIFIED:20251117T212450Z
UID:3841-1790449200-1790465400@aldridgesocial.club
SUMMARY:Tina Turner Tribute
DESCRIPTION:Saturday 26th September join in the singing and dancing with our Tina Turner Tribute \n \n📍 The ASC Bar @aldridgesocial\n🗓️ Saturday 26th September\n🕗 Doors open at 7 PM\n✨ Join us for a night of music and dancing\n💃 Family-friendly disco vibes\n🍾 Bar open all night\n🎟️ Tickets: £12.50\nDon’t forget – You don’t have to be a member to join in the fun!
URL:https://aldridgesocial.club/event/tina-turner-tribute/
LOCATION:Aldridge Social Club\, High Street\, Aldridge\, Walsall\, West Midlands\, WS9 8LZ\, United Kingdom
ATTACH;FMTTYPE=image/jpeg:https://aldridgesocial.club/wp-content/uploads/2025/06/TT.jpg
ORGANIZER;CN="Aldridge Social":MAILTO:info.aldridgesocialclub@gmail.com
END:VEVENT
BEGIN:VEVENT
DTSTART;TZID=Europe/London:20261128T190000
DTEND;TZID=Europe/London:20261128T233000
DTSTAMP:20260422T125719
CREATED:20251117T210907Z
LAST-MODIFIED:20251117T212529Z
UID:3843-1795892400-1795908600@aldridgesocial.club
SUMMARY:Madness/Ska
DESCRIPTION:Don’t forget you don’t need to be a member to join in the fun at The ASC Bar @aldridgesocial \nCome and dance the night away to the sounds of Madness and Ska \n📍 The ASC Bar @aldridgesocial\n🗓️ Saturday 28th November\n🕗 Doors open at 7 PM\n✨ Join us for a night of music and dancing\n💃 Family-friendly disco vibes\n🍾 Bar open all night\n🎟️ Tickets: £12.50\nDon’t forget – You don’t have to be a member to join in the fun! \n 
URL:https://aldridgesocial.club/event/madness-ska/
LOCATION:Aldridge Social Club\, High Street\, Aldridge\, Walsall\, West Midlands\, WS9 8LZ\, United Kingdom
ORGANIZER;CN="Aldridge Social":MAILTO:info.aldridgesocialclub@gmail.com
END:VEVENT
BEGIN:VEVENT
DTSTART;TZID=Europe/London:20261205T190000
DTEND;TZID=Europe/London:20261205T233000
DTSTAMP:20260422T125719
CREATED:20251117T211141Z
LAST-MODIFIED:20251117T212620Z
UID:3845-1796497200-1796513400@aldridgesocial.club
SUMMARY:UB40 Tribute
DESCRIPTION:Saturday 5th December enjoy our tribute to UB40 \nDon’t forget you don’t need to be a member to join in the fun at The ASC Bar @aldridgesocial \n📍 The ASC Bar @aldridgesocial\n🗓️ Saturday 5th December\n🕗 Doors open at 7 PM\n✨ Join us for a night of music and dancing\n💃 Family-friendly disco vibes\n🍾 Bar open all night\n🎟️ Tickets: £20.00\nDon’t forget – You don’t have to be a member to join in the fun!
URL:https://aldridgesocial.club/event/ub40-tribute/
LOCATION:Aldridge Social Club\, High Street\, Aldridge\, Walsall\, West Midlands\, WS9 8LZ\, United Kingdom
ORGANIZER;CN="Aldridge Social":MAILTO:info.aldridgesocialclub@gmail.com
END:VEVENT
END:VCALENDAR